Workbook

Sheet 4 класс
A1: Протокол школьного этапа этапа всероссийской олимпиады школьников по русскому языку в 2025-2026 уч.г., 4 класс
A2: Количество участников: 42
A3: Дата проведения: 09.10.2025
A4: Место проведения: МБОУ "СОШ № 22 им.Героя РФ Н.Ф. Гаврилова" г.Чебоксары
A5: Председатель жюри: Михайлова Е.С., учитель русского языка и литературы
A6: Члены жюри: Кислова Р.Г. , учитель русского языка и литературы
A7: Нестерова Е.В., учитель русского языка и литературы
A8: Миронова В.А., учитель начальных классов
A9: Морозова Т.В., учитель начальных классов
A10: Петрова Е.Б., учитель начальных классов
A11: Евграфова В.В., учитель начальных классов
A12: Семенова С.С. , учитель начальных классов
A13: № | B13: Шифр | C13: Город | D13: Наименование ОО (сокращенное наименование по Уставу) | E13: Класс, в котором обучается | F13: Класс, за который выступает | G13: Ф.И.О. наставника (полностью) | H13: Задание 1 | I13: Задание 2 | J13: Задание 3 | K13: Задание 4 | L13: Задание 5 | M13: Задание 6 | N13: Задание 7 | O13: ИТОГО БАЛЛОВ | P13: МАКСИМАЛЬНЫЙ БАЛЛ | Q13: Эффективность участия (%) | R13: Результат (победитель/призер/ участник)
A14: 39 | B14: РЯ - 39 | C14: г. Чебоксары | D14: МБОУ "СОШ № 22 им. Героя РФ Н.Ф. Гаврилова" г. Чебоксары | E14: 4К | F14: 4 | G14: Петрова Елена Брониславовна | H14: 4 | I14: 6 | J14: 2 | K14: 8 | L14: 4 | M14: 6 | N14: 6 | O14: 36 | P14: 40 | Q14: 90 | R14: победитель
A15: 31 | B15: РЯ - 31 | C15: г. Чебоксары | D15: МБОУ "СОШ № 22 им. Героя РФ Н.Ф. Гаврилова" г. Чебоксары | E15: 4К | F15: 4 | G15: Петрова Елена Брониславовна | H15: 4 | I15: 6 | J15: 0 | K15: 8 | L15: 4 | M15: 6 | N15: 4 | O15: 32 | P15: 40 | Q15: 80 | R15: победитель
A16: 40 | B16: РЯ - 40 | C16: г. Чебоксары | D16: МБОУ "СОШ № 22 им. Героя РФ Н.Ф. Гаврилова" г. Чебоксары | E16: 4К | F16: 4 | G16: Петрова Елена Брониславовна | H16: 4 | I16: 6 | J16: 2 | K16: 4 | L16: 4 | M16: 6 | N16: 6 | O16: 32 | P16: 40 | Q16: 80 | R16: победитель
A17: 41 | B17: РЯ - 41 | C17: г. Чебоксары | D17: МБОУ "СОШ № 22 им. Героя РФ Н.Ф. Гаврилова" г. Чебоксары | E17: 4К | F17: 4 | G17: Петрова Елена Брониславовна | H17: 4 | I17: 6 | J17: 0 | K17: 8 | L17: 2 | M17: 6 | N17: 5 | O17: 31 | P17: 40 | Q17: 78 | R17: победитель
A18: 35 | B18: РЯ - 35 | C18: г. Чебоксары | D18: МБОУ "СОШ № 22 им. Героя РФ Н.Ф. Гаврилова" г. Чебоксары | E18: 4К | F18: 4 | G18: Петрова Елена Брониславовна | H18: 4 | I18: 6 | J18: 0 | K18: 4 | L18: 4 | M18: 6 | N18: 6 | O18: 30 | P18: 40 | Q18: 75 | R18: победитель
A19: 36 | B19: РЯ - 36 | C19: г. Чебоксары | D19: МБОУ "СОШ № 22 им. Героя РФ Н.Ф. Гаврилова" г. Чебоксары | E19: 4К | F19: 4 | G19: Петрова Елена Брониславовна | H19: 4 | I19: 6 | J19: 0 | K19: 8 | L19: 4 | M19: 4 | N19: 4 | O19: 30 | P19: 40 | Q19: 75 | R19: победитель
A20: 18 | B20: РЯ - 18 | C20: г. Чебоксары | D20: МБОУ "СОШ № 22 им. Героя РФ Н.Ф. Гаврилова" г. Чебоксары | E20: 4Б | F20: 4 | G20: Морозова Татьяна Влерьевна | H20: 4 | I20: 4 | J20: 2 | K20: 8 | L20: 4 | M20: 0 | N20: 6 | O20: 28 | P20: 40 | Q20: 70 | R20: победитель
A21: 42 | B21: РЯ - 42 | C21: г. Чебоксары | D21: МБОУ "СОШ № 22 им. Героя РФ Н.Ф. Гаврилова" г. Чебоксары | E21: 4К | F21: 4 | G21: Петрова Елена Брониславовна | H21: 0 | I21: 4 | J21: 0 | K21: 8 | L21: 4 | M21: 6 | N21: 6 | O21: 28 | P21: 40 | Q21: 70 | R21: призер
A22: 15 | B22: РЯ - 15 | C22: г. Чебоксары | D22: МБОУ "СОШ № 22 им. Героя РФ Н.Ф. Гаврилова" г. Чебоксары | E22: 4Б | F22: 4 | G22: Морозова Татьяна Влерьевна | H22: 4 | I22: 4 | J22: 2 | K22: 8 | L22: 4 | M22: 0 | N22: 5 | O22: 27 | P22: 40 | Q22: 68 | R22: призер
A23: 33 | B23: РЯ - 33 | C23: г. Чебоксары | D23: МБОУ "СОШ № 22 им. Героя РФ Н.Ф. Гаврилова" г. Чебоксары | E23: 4К | F23: 4 | G23: Петрова Елена Брониславовна | H23: 4 | I23: 6 | J23: 0 | K23: 3 | L23: 4 | M23: 4 | N23: 6 | O23: 27 | P23: 40 | Q23: 68 | R23: призер
A24: 17 | B24: РЯ - 17 | C24: г. Чебоксары | D24: МБОУ "СОШ № 22 им. Героя РФ Н.Ф. Гаврилова" г. Чебоксары | E24: 4Б | F24: 4 | G24: Морозова Татьяна Влерьевна | H24: 4 | I24: 6 | J24: 2 | K24: 4 | L24: 4 | M24: 0 | N24: 6 | O24: 26 | P24: 40 | Q24: 65 | R24: призер
A25: 32 | B25: РЯ - 32 | C25: г. Чебоксары | D25: МБОУ "СОШ № 22 им. Героя РФ Н.Ф. Гаврилова" г. Чебоксары | E25: 4К | F25: 4 | G25: Петрова Елена Брониславовна | H25: 4 | I25: 6 | J25: 0 | K25: 3 | L25: 2 | M25: 6 | N25: 5 | O25: 26 | P25: 40 | Q25: 65 | R25: призер
... A55: 9 | B55: РЯ - 09 | C55: г. Чебоксары | D55: МБОУ "СОШ № 22 им. Героя РФ Н.Ф. Гаврилова" г. Чебоксары | E55: 4А | F55: 4 | G55: Волкова Ольга Влерьяновна | H55: 4 | I55: 2 | J55: 0 | K55: 0 | L55: 0 | M55: 0 | N55: 0 | O55: 6 | P55: 40 | Q55: 15 | R55: участник
B57: Председатель жюри: | C57: ________ | D57: Михайлова Е.С.
B58: Члены жюри: | C58: ________ | D58: Кислова Р.Г.
C59: ________ | D59: Нестерова Е.В.
C60: ________ | D60: Миронова В.А.
C61: ________ | D61: Морозова Т.В.
C62: ________ | D62: Петрова Е.Б.
C63: ________ | D63: Евграфова В.В.
C64: ________ | D64: Семенова С.С.

Sheet 5 класс
A1: Протокол школьного этапа этапа всероссийской олимпиады школьников по русскому языку в 2025-2026 уч.г., 5 класс
A2: Количество участников: 20
A3: Дата проведения: 09.10.2025
A4: Место проведения: МБОУ "СОШ № 22 им.Героя РФ Н.Ф. Гаврилова" г.Чебоксары
A5: Председатель жюри: Михайлова Е.С., учитель русского языка и литературы
A6: Члены жюри: Кислова Р.Г. , учитель русского языка и литературы
A7: Нестерова Е.В., учитель русского языка и литературы
A8: Миронова В.А., учитель начальных классов
A9: Морозова Т.В., учитель начальных классов
A10: Петрова Е.Б., учитель начальных классов
A11: Евграфова В.В., учитель начальных классов
A12: Семенова С.С. , учитель начальных классов
A13: № | B13: Шифр | C13: Город | D13: Наименование ОО (сокращенное наименование по Уставу) | E13: Класс, в котором обучается | F13: Класс, за который выступает | G13: Ф.И.О. наставника (полностью) | H13: Задание 1 | I13: Задание 2 | J13: Задание 3 | K13: Задание 4 | L13: Зажание 5 | M13: Задание 6 | N13: Задание 7 | O13: ИТОГО БАЛЛОВ | P13: МАКСИМАЛЬНЫЙ БАЛЛ | Q13: Эффективность участия (%) | R13: Результат (победитель/ призер/ участник)
A14: 3 | B14: РЯ – 45 | C14: г. Чебоксары | D14: МБОУ "СОШ №22 им.Героя РФ Н.Ф.Гаврилова" г.Чебоксары | E14: 5И | F14: 5 | G14: Ильина Наталья Геннадьевна | H14: 2 | I14: 3 | J14: 4 | K14: 4 | L14: 5 | M14: 1 | N14: 2 | O14: =SUM(H14:N14) -> 21 | P14: 67 | Q14: =O14*100/67 -> 31.343284 | R14: участник
A15: 1 | B15: РЯ – 43 | C15: г. Чебоксары | D15: МБОУ "СОШ №22 им.Героя РФ Н.Ф.Гаврилова" г.Чебоксары | E15: 5И | F15: 5 | G15: Ильина Наталья Геннадьевна | H15: 1 | I15: 0 | J15: 6 | K15: 1 | L15: 4 | M15: 0 | N15: 3 | O15: =SUM(H15:N15) -> 15 | P15: 67 | Q15: =O15*100/67 -> 22.38806 | R15: участник
A16: 2 | B16: РЯ – 44 | C16: г. Чебоксары | D16: МБОУ "СОШ №22 им.Героя РФ Н.Ф.Гаврилова" г.Чебоксары | E16: 5И | F16: 5 | G16: Ильина Наталья Геннадьевна | H16: 0 | I16: 3 | J16: 3 | K16: 1.5 | L16: 3 | M16: 0 | N16: 3 | O16: =SUM(H16:N16) -> 13.5 | P16: 67 | Q16: =O16*100/67 -> 20.149254 | R16: участник
B18: Председатель жюри: | C18: ________ | D18: Михайлова Е.С.
B19: Члены жюри: | C19: ________ | D19: Кислова Р.Г.
C20: ________ | D20: Нестерова Е.В.
C21: ________ | D21: Миронова В.А.
C22: ________ | D22: Морозова Т.В.
C23: ________ | D23: Петрова Е.Б.
C24: ________ | D24: Евграфова В.В.
C25: ________ | D25: Семенова С.С.

Sheet 6 класс
A1: Протокол школьного этапа этапа всероссийской олимпиады школьников по русскому языку в 2025-2026 уч.г., 6 класс
A2: Количество участников: 20
A3: Дата проведения: 09.10.2025
A4: Место проведения: МБОУ "СОШ № 22 им. Героя РФ Н.Ф. Гаврилова" г.Чебоксары
A5: Председатель жюри: Михайлова Е.С., учитель русского языка и литературы
A6: Члены жюри: Кислова Р.Г. , учитель русского языка и литературы
A7: Нестерова Е.В., учитель русского языка и литературы
A8: Миронова В.А., учитель начальных классов
A9: Морозова Т.В., учитель начальных классов
A10: Петрова Е.Б., учитель начальных классов
A11: Евграфова В.В., учитель начальных классов
A12: Семенова С.С. , учитель начальных классов
A13: № | B13: Шифр | C13: Город | D13: Наименование ОО (сокращенное наименование по Уставу) | E13: Класс, в котором обучается | F13: Класс, за который выступает | G13: Ф.И.О. наставника (полностью) | H13: Задание 1 | I13: Задание 2 | J13: Задание 3 | K13: Задание 4 | L13: Зажание 5 | M13: Задание 6 | N13: Задание 7 | O13: ИТОГО БАЛЛОВ | P13: МАКСИМАЛЬНЫЙ БАЛЛ | Q13: Эффективность участия (%) | R13: Результат (победитель/ призер/ участник)
A14: 9 | B14: РЯ – 59 | C14: г. Чебоксары | D14: МБОУ "СОШ №22 им.Героя РФ Н.Ф.Гаврилова" г.Чебоксары | E14: 6Т | F14: 6 | G14: Михайлова Елена Самуиловна | H14: 10 | I14: 3 | J14: 14 | K14: 9 | L14: 4 | M14: 0 | N14: 3 | O14: =SUM(H14:N14) -> 43 | P14: 67 | Q14: =O14*100/P14 -> 64.179104 | R14: победитель
A15: 1 | B15: РЯ – 51 | C15: г. Чебоксары | D15: МБОУ "СОШ №22 им.Героя РФ Н.Ф.Гаврилова" г.Чебоксары | E15: 6И | F15: 6 | G15: Богдан Валентина Николаевна | H15: 5 | I15: 5 | J15: 9 | K15: 9 | L15: 6 | M15: 2 | N15: 4 | O15: =SUM(H15:N15) -> 40 | P15: 67 | Q15: =O15*100/P15 -> 59.701493 | R15: призер
A16: 2 | B16: РЯ – 52 | C16: г. Чебоксары | D16: МБОУ "СОШ №22 им.Героя РФ Н.Ф.Гаврилова" г.Чебоксары | E16: 6И | F16: 6 | G16: Богдан Валентина Николаевна | H16: 2 | I16: 1 | J16: 8 | K16: 12 | L16: 5 | M16: 2 | N16: 5 | O16: =SUM(H16:N16) -> 35 | P16: 67 | Q16: =O16*100/P16 -> 52.238806 | R16: призер
A17: 8 | B17: РЯ – 58 | C17: г. Чебоксары | D17: МБОУ "СОШ №22 им.Героя РФ Н.Ф.Гаврилова" г.Чебоксары | E17: 6Т | F17: 6 | G17: Михайлова Елена Самуиловна | H17: 3 | I17: 5 | J17: 10 | K17: 8 | L17: 5 | M17: 0 | N17: 4 | O17: =SUM(H17:N17) -> 35 | P17: 67 | Q17: =O17*100/P17 -> 52.238806 | R17: призер
A18: 18 | B18: РЯ – 70 | C18: г. Чебоксары | D18: МБОУ "СОШ №22 им.Героя РФ Н.Ф.Гаврилова" г.Чебоксары | E18: 6К | F18: 6 | G18: Нестерова Елена Валерьевна | H18: 2 | I18: 2.5 | J18: 10 | K18: 8 | L18: 6 | M18: 3 | N18: 1.5 | O18: =SUM(H18:N18) -> 33 | P18: 67 | Q18: =O18*100/P18 -> 49.253731 | R18: участник
A19: 20 | B19: РЯ – 72 | C19: г. Чебоксары | D19: МБОУ "СОШ №22 им.Героя РФ Н.Ф.Гаврилова" г.Чебоксары | E19: 6К | F19: 6 | G19: Нестерова Елена Валерьевна | H19: 2 | I19: 0 | J19: 10 | K19: 7 | L19: 5 | M19: 3 | N19: 2 | O19: =SUM(H19:N19) -> 29 | P19: 67 | Q19: =O19*100/P19 -> 43.283582 | R19: участник
A20: 7 | B20: РЯ – 57 | C20: г. Чебоксары | D20: МБОУ "СОШ №22 им.Героя РФ Н.Ф.Гаврилова" г.Чебоксары | E20: 6Т | F20: 6 | G20: Михайлова Елена Самуиловна | H20: 4 | I20: 6 | J20: 6 | K20: 4.5 | L20: 4 | M20: 1 | N20: 3 | O20: =SUM(H20:N20) -> 28.5 | P20: 67 | Q20: =O20*100/P20 -> 42.537313 | R20: участник
A21: 13 | B21: РЯ – 65 | C21: г. Чебоксары | D21: МБОУ "СОШ №22 им.Героя РФ Н.Ф.Гаврилова" г.Чебоксары | E21: 6Э | F21: 6 | G21: Кислова Римма Григорьевна | H21: 3 | I21: 1 | J21: 5 | K21: 3 | L21: 6 | M21: 3 | N21: 5 | O21: =SUM(H21:N21) -> 26 | P21: 67 | Q21: =O21*100/P21 -> 38.80597 | R21: участник
A22: 17 | B22: РЯ – 69 | C22: г. Чебоксары | D22: МБОУ "СОШ №22 им.Героя РФ Н.Ф.Гаврилова" г.Чебоксары | E22: 6К | F22: 6 | G22: Нестерова Елена Валерьевна | H22: 3 | I22: 0 | J22: 7 | K22: 5.5 | L22: 5 | M22: 2 | N22: 2.5 | O22: =SUM(H22:N22) -> 25 | P22: 67 | Q22: =O22*100/P22 -> 37.313433 | R22: участник
A23: 15 | B23: РЯ – 67 | C23: г. Чебоксары | D23: МБОУ "СОШ №22 им.Героя РФ Н.Ф.Гаврилова" г.Чебоксары | E23: 6Э | F23: 6 | G23: Кислова Римма Григорьевна | H23: 4 | I23: 2.5 | J23: 6 | K23: 4 | L23: 4 | M23: 0 | N23: 3 | O23: =SUM(H23:N23) -> 23.5 | P23: 67 | Q23: =O23*100/P23 -> 35.074627 | R23: участник
A24: 4 | B24: РЯ – 54 | C24: г. Чебоксары | D24: МБОУ "СОШ №22 им.Героя РФ Н.Ф.Гаврилова" г.Чебоксары | E24: 6И | F24: 6 | G24: Богдан Валентина Николаевна | H24: 0 | I24: 4 | J24: 5 | K24: 3 | L24: 5 | M24: 2 | N24: 3 | O24: =SUM(H24:N24) -> 22 | P24: 67 | Q24: =O24*100/P24 -> 32.835821 | R24: участник
A25: 16 | B25: РЯ – 68 | C25: г. Чебоксары | D25: МБОУ "СОШ №22 им.Героя РФ Н.Ф.Гаврилова" г.Чебоксары | E25: 6Э | F25: 6 | G25: Кислова Римма Григорьевна | H25: 2 | I25: 0 | J25: 9 | K25: 7 | L25: 3 | M25: 0 | N25: 0 | O25: =SUM(H25:N25) -> 21 | P25: 67 | Q25: =O25*100/P25 -> 31.343284 | R25: участник
... A33: 12 | B33: РЯ – 64 | C33: г. Чебоксары | D33: МБОУ "СОШ №22 им.Героя РФ Н.Ф.Гаврилова" г.Чебоксары | E33: 6Т | F33: 6 | G33: Михайлова Елена Самуиловна | H33: 0 | I33: 3 | J33: 0 | K33: 1 | L33: 0 | M33: 2 | N33: 0 | O33: =SUM(H33:N33) -> 6 | P33: 67 | Q33: =O33*100/P33 -> 8.9552239 | R33: участник
B35: Председатель жюри: | C35: ________ | D35: Михайлова Е.С.
B36: Члены жюри: | C36: ________ | D36: Кислова Р.Г.
C37: ________ | D37: Нестерова Е.В.
C38: ________ | D38: Миронова В.А.
C39: ________ | D39: Морозова Т.В.
C40: ________ | D40: Петрова Е.Б.
C41: ________ | D41: Евграфова В.В.
C42: ________ | D42: Семенова С.С.

Sheet 7 КЛАСС
A1: Протокол школьного этапа этапа всероссийской олимпиады школьников по русскому языку в 2025-2026 уч.г., 7 класс
A2: Количество участников: 22
A3: Дата проведения: 09.10.2025
A4: Место проведения: МБОУ "СОШ № 22 им.Героя РФ Н.Ф. Гаврилова" г.Чебоксары
A5: Председатель жюри: Михайлова Е.С., учитель русского языка и литературы
A6: Члены жюри: Кислова Р.Г. , учитель русского языка и литературы
A7: Нестерова Е.В., учитель русского языка и литературы
A8: Миронова В.А., учитель начальных классов
A9: Морозова Т.В., учитель начальных классов
A10: Петрова Е.Б., учитель начальных классов
A11: Евграфова В.В., учитель начальных классов
A12: Семенова С.С. , учитель начальных классов
A13: № | B13: Шифр | C13: Город | D13: Наименование ОО (сокращенное наименование по Уставу) | E13: Класс, в котором обучается | F13: Класс, за который выступает | G13: Ф.И.О. наставника (полностью) | H13: Задание 1 | I13: Задание 2 | J13: Задание 3 | K13: Задание 4 | L13: Зажание 5 | M13: Задание 6 | N13: ИТОГО БАЛЛОВ | O13: МАКСИМАЛЬНЫЙ БАЛЛ | P13: Эффективность участия (%) | Q13: Результат (победитель/ призер/ участник)
A14: 17 | B14: РЯ-92 | C14: г. Чебоксары | D14: МБОУ "СОШ №22 им.Героя РФ Н.Ф.Гаврилова" г.Чебоксары | E14: 7 | F14: 7 | G14: Михайлова Елена Самиуиловна | H14: 4 | I14: 3 | J14: 13 | K14: 8 | L14: 9 | M14: 7 | N14: 44 | O14: 70 | P14: 62 | Q14: призер
A15: 3 | B15: РЯ-76 | C15: г. Чебоксары | D15: МБОУ "СОШ №22 им.Героя РФ Н.Ф.Гаврилова" г.Чебоксары | E15: 7 | F15: 7 | G15: Павлова Галина Анатольевна | H15: 7 | I15: 9 | J15: 13 | K15: 2 | L15: 9 | M15: 3 | N15: 43 | O15: 70 | P15: 61 | Q15: призер
A16: 6 | B16: РЯ-79 | C16: г. Чебоксары | D16: МБОУ "СОШ №22 им.Героя РФ Н.Ф.Гаврилова" г.Чебоксары | E16: 7 | F16: 7 | G16: Павлова Галина Анатольевна | H16: 5 | I16: 3 | J16: 12 | K16: 4 | L16: 7 | M16: 8 | N16: 39 | O16: 70 | P16: 55 | Q16: призер
A17: 22 | B17: РЯ-124 | C17: г. Чебоксары | D17: МБОУ "СОШ №22 им.Героя РФ Н.Ф.Гаврилова" г.Чебоксары | E17: 7 | F17: 7 | G17: Богдан Валентина Николаевна | H17: 5 | I17: 2 | J17: 11 | K17: 6 | L17: 8 | M17: 6 | N17: 38 | O17: 70 | P17: 54 | Q17: призер
A18: 15 | B18: РЯ-90 | C18: г. Чебоксары | D18: МБОУ "СОШ №22 им.Героя РФ Н.Ф.Гаврилова" г.Чебоксары | E18: 7 | F18: 7 | G18: Михайлова Елена Самиуиловна | H18: 7 | I18: 4 | J18: 12 | K18: 0 | L18: 8 | M18: 6 | N18: 37 | O18: 70 | P18: 52 | Q18: призер
A19: 18 | B19: РЯ-93 | C19: г. Чебоксары | D19: МБОУ "СОШ №22 им.Героя РФ Н.Ф.Гаврилова" г.Чебоксары | E19: 7 | F19: 7 | G19: Михайлова Елена Самиуиловна | H19: 5 | I19: 3 | J19: 13 | K19: 3 | L19: 8 | M19: 6 | N19: 35 | O19: 70 | P19: 50 | Q19: участник
A20: 21 | B20: РЯ-123 | C20: г. Чебоксары | D20: МБОУ "СОШ №22 им.Героя РФ Н.Ф.Гаврилова" г.Чебоксары | E20: 7 | F20: 7 | G20: Богдан Валентина Николаевна | H20: 5 | I20: 2 | J20: 12 | K20: 4 | L20: 8 | M20: 8 | N20: 35 | O20: 70 | P20: 50 | Q20: участник
A21: 4 | B21: РЯ-77 | C21: г. Чебоксары | D21: МБОУ "СОШ №22 им.Героя РФ Н.Ф.Гаврилова" г.Чебоксары | E21: 7 | F21: 7 | G21: Павлова Галина Анатольевна | H21: 4 | I21: 3 | J21: 11 | K21: 2 | L21: 7 | M21: 7 | N21: 34 | O21: 70 | P21: 48 | Q21: участник
A22: 19 | B22: РЯ=94 | C22: г. Чебоксары | D22: МБОУ "СОШ №22 им.Героя РФ Н.Ф.Гаврилова" г.Чебоксары | E22: 7 | F22: 7 | G22: Михайлова Елена Самиуиловна | H22: 5 | I22: 3 | J22: 12 | K22: 2 | L22: 7 | M22: 3 | N22: 32 | O22: 70 | P22: 45 | Q22: участник
A23: 2 | B23: РЯ- 74 | C23: г. Чебоксары | D23: МБОУ "СОШ №22 им.Героя РФ Н.Ф.Гаврилова" г.Чебоксары | E23: 7 | F23: 7 | G23: Волкова Ольга Валериановна | H23: 7 | I23: 3 | J23: 9 | K23: 5 | L23: 2 | M23: 3 | N23: 29 | O23: 70 | P23: 41 | Q23: участник
A24: 8 | B24: РЯ-81 | C24: г. Чебоксары | D24: МБОУ "СОШ №22 им.Героя РФ Н.Ф.Гаврилова" г.Чебоксары | E24: 7 | F24: 7 | G24: Волкова Ольга Валериановна | H24: 4 | I24: 2 | J24: 13 | K24: 0 | L24: 4 | M24: 5 | N24: 28 | O24: 70 | P24: 40 | Q24: участник
A25: 5 | B25: РЯ-78 | C25: г. Чебоксары | D25: МБОУ "СОШ №22 им.Героя РФ Н.Ф.Гаврилова" г.Чебоксары | E25: 7 | F25: 7 | G25: Павлова Галина Анатольевна | H25: 4 | I25: 1 | J25: 13 | K25: 0 | L25: 6 | M25: 3 | N25: 27 | O25: 70 | P25: 38 | Q25: участник
... A35: 14 | B35: РЯ-88 | C35: г. Чебоксары | D35: МБОУ "СОШ №22 им.Героя РФ Н.Ф.Гаврилова" г.Чебоксары | E35: 7 | F35: 7 | G35: Михайлова Елена Самиуиловна | H35: 3 | I35: 0 | J35: 7 | K35: 0 | L35: 0 | M35: 0 | N35: 10 | O35: 70 | P35: 14 | Q35: участник
B37: Председатель жюри: | C37: ________ | D37: Михайлова Е.С.
B38: Члены жюри:
C39: ________ | D39: Кислова Р.Г.
C40: ________ | D40: Нестерова Е.В.
C41: ________ | D41: Миронова В.А.
C42: ________ | D42: Морозова Т.В.
C43: ________ | D43: Петрова Е.Б.
C44: ________ | D44: Евграфова В.В.
C45: ________ | D45: Семенова С.С.

Sheet 8 КЛАСС 
A1: Протокол школьного этапа этапа всероссийской олимпиады школьников по русскому языку в 2025-2026 уч.г., 8 класс
A2: Количество участников: 22
A3: Дата проведения: 09.10.2025
A4: Место проведения: МБОУ "СОШ № 22 им. Героя РФ Н.Ф. Гаврилова" г.Чебоксары
A5: Председатель жюри: Михайлова Е.С., учитель русского языка и литературы
A6: Члены жюри: Кислова Р.Г. , учитель русского языка и литературы
A7: Нестерова Е.В., учитель русского языка и литературы
A8: Миронова В.А., учитель начальных классов
A9: Морозова Т.В., учитель начальных классов
A10: Петрова Е.Б., учитель начальных классов
A11: Евграфова В.В., учитель начальных классов
A12: Семенова С.С. , учитель начальных классов
A13: № | B13: Шифр | C13: Город | D13: Наименование ОО (сокращенное наименование по Уставу) | E13: Класс, в котором обучается | F13: Класс, за который выступает | G13: Ф.И.О. наставника (полностью) | H13: ='7 КЛАСС'!H13 -> Задание 1 | I13: ='7 КЛАСС'!I13 -> Задание 2 | J13: ='7 КЛАСС'!J13 -> Задание 3 | K13: ='7 КЛАСС'!K13 -> Задание 4 | L13: ='7 КЛАСС'!L13 -> Зажание 5 | M13: ='7 КЛАСС'!M13 -> Задание 6 | N13: ИТОГО БАЛЛОВ | O13: МАКСИМАЛЬНЫЙ БАЛЛ | P13: Эффективность участия (%) | Q13: Результат (победитель/ призер/ участник)
A14: 6 | B14: РЯ-102 | C14: г. Чебоксары | D14: МБОУ "СОШ №22 им.Героя РФ Н.Ф.Гаврилова" г.Чебоксары | E14: 8 | F14: 8 | G14: Михайлова Елена СамуиловнаМ | H14: 4 | I14: 2 | J14: 12 | K14: 5 | L14: 9 | M14: 7 | N14: 39 | O14: 70 | P14: 55 | Q14: призер
A15: 18 | B15: РЯ-116 | C15: г. Чебоксары | D15: МБОУ "СОШ №22 им.Героя РФ Н.Ф.Гаврилова" г.Чебоксары | E15: 8 | F15: 8 | G15: Ершова Елена Валерьевна | H15: 4 | I15: 1 | J15: 10 | K15: 9 | L15: 7 | M15: 7 | N15: 38 | O15: 70 | P15: 54 | Q15: призер
A16: 4 | B16: РЯ-100 | C16: г. Чебоксары | D16: МБОУ "СОШ №22 им.Героя РФ Н.Ф.Гаврилова" г.Чебоксары | E16: 8 | F16: 8 | G16: Николаева Оксана Валерьевна | H16: 5 | I16: 3 | J16: 13 | K16: 1 | L16: 6 | M16: 6 | N16: 34 | O16: 70 | P16: 48 | Q16: участник
A17: 8 | B17: РЯ-104 | C17: г. Чебоксары | D17: МБОУ "СОШ №22 им.Героя РФ Н.Ф.Гаврилова" г.Чебоксары | E17: 8 | F17: 8 | G17: Михайлова Елена СамуиловнаМ | H17: 4 | I17: 3 | J17: 12 | K17: 4 | L17: 3 | M17: 4 | N17: 33 | O17: 70 | P17: 47 | Q17: участник
A18: 20 | B18: РЯ-118 | C18: г. Чебоксары | D18: МБОУ "СОШ №22 им.Героя РФ Н.Ф.Гаврилова" г.Чебоксары | E18: 8 | F18: 8 | G18: Ершова Елена Валерьевна | H18: 5 | I18: 1 | J18: 12 | K18: 5 | L18: 4 | M18: 8 | N18: 33 | O18: 70 | P18: 47 | Q18: участник
A19: 7 | B19: РЯ-103 | C19: г. Чебоксары | D19: МБОУ "СОШ №22 им.Героя РФ Н.Ф.Гаврилова" г.Чебоксары | E19: 8 | F19: 8 | G19: Михайлова Елена СамуиловнаМ | H19: 4 | I19: 2 | J19: 10 | K19: 3 | L19: 9 | M19: 4 | N19: 32 | O19: 70 | P19: 45 | Q19: участник
A20: 9 | B20: РЯ-105 | C20: г. Чебоксары | D20: МБОУ "СОШ №22 им.Героя РФ Н.Ф.Гаврилова" г.Чебоксары | E20: 8 | F20: 8 | G20: Михайлова Елена СамуиловнаМ | H20: 4 | I20: 2 | J20: 11 | K20: 3 | L20: 8 | M20: 4 | N20: 32 | O20: 70 | P20: 45 | Q20: участник
A21: 13 | B21: РЯ-110 | C21: г. Чебоксары | D21: МБОУ "СОШ №22 им.Героя РФ Н.Ф.Гаврилова" г.Чебоксары | E21: 8 | F21: 8 | G21: Кислова Римма Григорьевна | H21: 6 | I21: 1 | J21: 11 | K21: 3 | L21: 8 | M21: 3 | N21: 32 | O21: 70 | P21: 45 | Q21: участник
A22: 11 | B22: РЯ-108 | C22: г. Чебоксары | D22: МБОУ "СОШ №22 им.Героя РФ Н.Ф.Гаврилова" г.Чебоксары | E22: 8 | F22: 8 | G22: Михайлова Елена СамуиловнаМ | H22: 4 | I22: 2 | J22: 10 | K22: 0 | L22: 7 | M22: 8 | N22: 31 | O22: 70 | P22: 44 | Q22: участник
A23: 22 | B23: РЯ-120 | C23: г. Чебоксары | D23: МБОУ "СОШ №22 им.Героя РФ Н.Ф.Гаврилова" г.Чебоксары | E23: 8 | F23: 8 | G23: Ершова Елена Валерьевна | H23: 4 | I23: 1 | J23: 11 | K23: 3 | L23: 4 | M23: 8 | N23: 31 | O23: 70 | P23: 44 | Q23: участник
A24: 19 | B24: РЯ-117 | C24: г. Чебоксары | D24: МБОУ "СОШ №22 им.Героя РФ Н.Ф.Гаврилова" г.Чебоксары | E24: 8 | F24: 8 | G24: Ершова Елена Валерьевна | H24: 5 | I24: 1 | J24: 9 | K24: 1 | L24: 6 | M24: 8 | N24: 30 | O24: 70 | P24: 42 | Q24: участник
A25: 10 | B25: РЯ-106 | C25: г. Чебоксары | D25: МБОУ "СОШ №22 им.Героя РФ Н.Ф.Гаврилова" г.Чебоксары | E25: 8 | F25: 8 | G25: Михайлова Елена СамуиловнаМ | H25: 3 | I25: 2 | J25: 11 | K25: 2 | L25: 3 | M25: 5 | N25: 29 | O25: 70 | P25: 41 | Q25: участник
... A35: 2 | B35: РЯ-96 | C35: г. Чебоксары | D35: МБОУ "СОШ №22 им.Героя РФ Н.Ф.Гаврилова" г.Чебоксары | E35: 8 | F35: 8 | G35: Николаева Оксана Валерьевна | H35: 3 | I35: 0 | J35: 7 | K35: 0 | L35: 0 | M35: 0 | N35: 10 | O35: 70 | P35: 14 | Q35: участник
B37: Председатель жюри: | C37: ________ | D37: Михайлова Е.С.
B38: Члены жюри: | C38: ________ | D38: Кислова Р.Г.
C39: ________ | D39: Нестерова Е.В.
C40: ________ | D40: Миронова В.А.
C41: ________ | D41: Морозова Т.В.
C42: ________ | D42: Петрова Е.Б.
C43: ________ | D43: Евграфова В.В.
C44: ________ | D44: Семенова С.С.

Sheet 9 КЛАСС
A1: Протокол школьного этапа этапа всероссийской олимпиады школьников по русскому языку в 2025-2026 уч.г., 9 класс
A2: Количество участников: 20
A3: Дата проведения: 09.10.2025
A4: Место проведения: МБОУ "СОШ №22 им.Героя РФ Н.Ф. Гаврилова" г.Чебоксары
A5: Председатель жюри: Михайлова Е.С., учитель русского языка и литературы
A6: Члены жюри: Кислова Р.Г. , учитель русского языка и литературы
A7: Нестерова Е.В., учитель русского языка и литературы
A8: Миронова В.А., учитель начальных классов
A9: Морозова Т.В., учитель начальных классов
A10: Петрова Е.Б., учитель начальных классов
A11: Евграфова В.В., учитель начальных классов
A12: Семенова С.С. , учитель начальных классов
A13: № | B13: Шифр | C13: Город | D13: Наименование ОО (сокращенное наименование по Уставу) | E13: Класс, в котором обучается | F13: Класс, за который выступает | G13: Ф.И.О. наставника (полностью) | H13: Задание 1 | I13: Задание 2 | J13: Задание 3 | K13: Задание 4 | L13: Задание 5 | M13: Задание 6 | N13: Задание 7 | O13: Задание 8 | P13: Задание 9 | Q13: Задание 10 | R13: ИТОГО БАЛЛОВ | S13: МАКСИМАЛЬНЫЙ БАЛЛ | T13: Эффективность участия (%) | U13: Результат (победитель/ призер/ участник)
A14: 9 | B14: РЯ-134 | C14: г. Чебоксары | D14: МБОУ "СОШ №22 им.Героя РФ Н.Ф.Гаврилова" г.Чебоксары | E14: 9Г | F14: 9 | G14: Кислова Римма Григорьевна | H14: 6 | I14: 0 | J14: 0 | K14: 4 | L14: 0 | M14: 6 | N14: 6 | O14: 6 | P14: 1.5 | Q14: 8 | R14: 37.5 | S14: 85 | T14: 44% | U14: участник
A15: 17 | B15: РЯ-142 | C15: г. Чебоксары | D15: МБОУ "СОШ №22 им.Героя РФ Н.Ф.Гаврилова" г.Чебоксары | E15: 9К | F15: 9 | G15: Михайлова Елена Самуиловна | H15: 7 | I15: 0 | J15: 0 | K15: 4 | L15: 2 | M15: 0 | N15: 2.5 | O15: 5 | P15: 2 | Q15: 0 | R15: 22.5 | S15: 85 | T15: 26% | U15: участник
A16: 16 | B16: РЯ-141 | C16: г. Чебоксары | D16: МБОУ "СОШ №22 им.Героя РФ Н.Ф.Гаврилова" г.Чебоксары | E16: 9К | F16: 9 | G16: Михайлова Елена Самуиловна | H16: 6 | I16: 0 | J16: 0 | K16: 0 | L16: 0 | M16: 3 | N16: 1.5 | O16: 5 | P16: 2 | Q16: 0 | R16: 17.5 | S16: 85 | T16: 21% | U16: участник
A17: 10 | B17: РЯ-135 | C17: г. Чебоксары | D17: МБОУ "СОШ №22 им.Героя РФ Н.Ф.Гаврилова" г.Чебоксары | E17: 9Г | F17: 9 | G17: Кислова Римма Григорьевна | H17: 3 | I17: 0 | J17: 5 | K17: 0 | L17: 1 | M17: 0 | N17: 0 | O17: 2 | P17: 1.5 | Q17: 4 | R17: 16.5 | S17: 85 | T17: 20% | U17: участник
A18: 20 | B18: РЯ-145 | C18: г. Чебоксары | D18: МБОУ "СОШ №22 им.Героя РФ Н.Ф.Гаврилова" г.Чебоксары | E18: 9К | F18: 9 | G18: Михайлова Елена Самуиловна | H18: 7 | I18: 0 | J18: 0 | K18: 0 | L18: 2 | M18: 0 | N18: 2 | O18: 5 | P18: 0 | Q18: 0 | R18: 16 | S18: 85 | T18: 19% | U18: участник
A19: 12 | B19: РЯ-137 | C19: г. Чебоксары | D19: МБОУ "СОШ №22 им.Героя РФ Н.Ф.Гаврилова" г.Чебоксары | E19: 9К | F19: 9 | G19: Михайлова Елена Самуиловна | H19: 5 | I19: 0 | J19: 0 | K19: 0 | L19: 0 | M19: 0 | N19: 2 | O19: 6 | P19: 2 | Q19: 0 | R19: 15 | S19: 85 | T19: 18% | U19: участник
A20: 7 | B20: РЯ-132 | C20: г. Чебоксары | D20: МБОУ "СОШ №22 им.Героя РФ Н.Ф.Гаврилова" г.Чебоксары | E20: 9В | F20: 9 | G20: Кислова Римма Григорьевна | H20: 5 | I20: 1.5 | J20: 0 | K20: 0 | L20: 0 | M20: 0 | N20: 2 | O20: 4 | P20: 1 | Q20: 0 | R20: 13.5 | S20: 85 | T20: 16% | U20: участник
A21: 3 | B21: РЯ-128 | C21: г. Чебоксары | D21: МБОУ "СОШ №22 им.Героя РФ Н.Ф.Гаврилова" г.Чебоксары | E21: 9А | F21: 9 | G21: Нестерова Елена Валерьевна | H21: 4 | I21: 1.5 | J21: 0 | K21: 0 | L21: 0 | M21: 0 | N21: 2.5 | O21: 2 | P21: 2 | Q21: 0 | R21: 12 | S21: 85 | T21: 14% | U21: участник
A22: 11 | B22: РЯ-136 | C22: г. Чебоксары | D22: МБОУ "СОШ №22 им.Героя РФ Н.Ф.Гаврилова" г.Чебоксары | E22: 9Г | F22: 9 | G22: Кислова Римма Григорьевна | H22: 2 | I22: 0 | J22: 0 | K22: 4 | L22: 0 | M22: 0 | N22: 1 | O22: 5 | P22: 0 | Q22: 0 | R22: 12 | S22: 85 | T22: 14% | U22: участник
A23: 2 | B23: РЯ-127 | C23: г. Чебоксары | D23: МБОУ "СОШ №22 им.Героя РФ Н.Ф.Гаврилова" г.Чебоксары | E23: 9А | F23: 9 | G23: Нестерова Елена Валерьевна | H23: 4 | I23: 0 | J23: 5 | K23: 0 | L23: 0 | M23: 0 | N23: 0 | O23: 2 | P23: 0 | Q23: 0 | R23: 11 | S23: 85 | T23: 13% | U23: участник
A24: 4 | B24: РЯ-129 | C24: г. Чебоксары | D24: МБОУ "СОШ №22 им.Героя РФ Н.Ф.Гаврилова" г.Чебоксары | E24: 9Б | F24: 9 | G24: Нестерова Елена Валерьевна | H24: 2 | I24: 0 | J24: 0 | K24: 0 | L24: 0 | M24: 7 | N24: 0 | O24: 2 | P24: 0 | Q24: 0 | R24: 11 | S24: 85 | T24: 13% | U24: участник
A25: 5 | B25: РЯ-130 | C25: г. Чебоксары | D25: МБОУ "СОШ №22 им.Героя РФ Н.Ф.Гаврилова" г.Чебоксары | E25: 9Б | F25: 9 | G25: Нестерова Елена Валерьевна | H25: 3 | I25: 1 | J25: 0 | K25: 0 | L25: 0 | M25: 0 | N25: 2.5 | O25: 2 | P25: 1.5 | Q25: 0 | R25: 10 | S25: 85 | T25: 12% | U25: участник
... A32: 8 | B32: РЯ-133 | C32: г. Чебоксары | D32: МБОУ "СОШ №22 им.Героя РФ Н.Ф.Гаврилова" г.Чебоксары | E32: 9В | F32: 9 | G32: Кислова Римма Григорьевна | H32: 1 | I32: 0 | J32: 0 | K32: 0 | L32: 0 | M32: 0 | N32: 0 | O32: 0 | P32: 0 | Q32: 0 | R32: 1 | S32: 85 | T32: 1% | U32: участник
A33: 1 | B33: РЯ-126 | C33: г. Чебоксары | D33: МБОУ "СОШ №22 им.Героя РФ Н.Ф.Гаврилова" г.Чебоксары | E33: 9А | F33: 9 | G33: Нестерова Елена Валерьевна | H33: 0 | I33: 0 | J33: 0 | K33: 0 | L33: 0 | M33: 0 | N33: 0 | O33: 0 | P33: 0 | Q33: 0 | R33: 0 | S33: 85 | T33: 0 | U33: участник
B35: Председатель жюри: | C35: ________ | D35: Михайлова Е.С.
B36: Члены жюри: | C36: ________ | D36: Кислова Р.Г.
C37: ________ | D37: Нестерова Е.В.
C38: ________ | D38: Миронова В.А.
C39: ________ | D39: Морозова Т.В.
C40: ________ | D40: Петрова Е.Б.
C41: ________ | D41: Евграфова В.В.
C42: ________ | D42: Семенова С.С.

Sheet 10 КЛАСС
A1: Протокол школьного этапа этапа всероссийской олимпиады школьников по русскому языку в 2025-2026 уч.г., 10 класс
A2: Количество участников: 8
A3: Дата проведения: 09.10.2025
A4: Место проведения: МБОУ "СОШ №22 им.Героя РФ Н.Ф. Гаврилова" г.Чебоксары
A5: Председатель жюри: Михайлова Е.С., учитель русского языка и литературы
A6: Члены жюри: Кислова Р.Г. , учитель русского языка и литературы
A7: Нестерова Е.В., учитель русского языка и литературы
A8: Миронова В.А., учитель начальных классов
A9: Морозова Т.В., учитель начальных классов
A10: Петрова Е.Б., учитель начальных классов
A11: Евграфова В.В., учитель начальных классов
A12: Семенова С.С. , учитель начальных классов
A13: № | B13: Шифр | C13: Город | D13: Наименование ОО (сокращенное наименование по Уставу) | E13: Класс, в котором обучается | F13: Класс, за который выступает | G13: Ф.И.О. наставника (полностью) | H13: Задание 1 | I13: Задание 2 | J13: Задание 3 | K13: Задание 4 | L13: Задание 5 | M13: Задание 6 | N13: Задание 7 | O13: Задание 8 | P13: Задание 9 | Q13: Задание 10 | R13: ИТОГО БАЛЛОВ | S13: МАКСИМАЛЬНЫЙ БАЛЛ | T13: Эффективность участия (%) | U13: Результат (победитель/ призер/ участник)
A14: 4 | B14: РЯ-149 | C14: г. Чебоксары | D14: МБОУ "СОШ №22 им.Героя РФ Н.Ф.Гаврилова" г.Чебоксары | E14: 10А | F14: 10 | G14: Волкова Ольга Валериановна | H14: 1 | I14: 3.5 | J14: 4 | K14: 2 | L14: 7 | M14: 2 | N14: 5 | O14: 3 | P14: 0 | Q14: 0 | R14: 27.5 | S14: 100 | T14: 28% | U14: участник
A15: 1 | B15: РЯ-146 | C15: г. Чебоксары | D15: МБОУ "СОШ №22 им.Героя РФ Н.Ф.Гаврилова" г.Чебоксары | E15: 10А | F15: 10 | G15: Волкова Ольга Валериановна | H15: 1 | I15: 3.5 | J15: 2 | K15: 0 | L15: 7 | M15: 2 | N15: 4 | O15: 0 | P15: 0 | Q15: 0 | R15: 19.5 | S15: 100 | T15: 20% | U15: участник
A16: 3 | B16: РЯ-148 | C16: г. Чебоксары | D16: МБОУ "СОШ №22 им.Героя РФ Н.Ф.Гаврилова" г.Чебоксары | E16: 10А | F16: 10 | G16: Волкова Ольга Валериановна | H16: 0 | I16: 5 | J16: 0 | K16: 0 | L16: 9 | M16: 2 | N16: 2 | O16: 0 | P16: 0 | Q16: 0 | R16: 18 | S16: 100 | T16: 18% | U16: участник
A17: 2 | B17: РЯ-147 | C17: г. Чебоксары | D17: МБОУ "СОШ №22 им.Героя РФ Н.Ф.Гаврилова" г.Чебоксары | E17: 10А | F17: 10 | G17: Волкова Ольга Валериановна | H17: 1 | I17: 4.5 | J17: 1 | K17: 0 | L17: 0 | M17: 2 | N17: 5 | O17: 2 | P17: 1 | Q17: 1 | R17: 17.5 | S17: 100 | T17: 18% | U17: участник
A18: 8 | B18: РЯ-153 | C18: г. Чебоксары | D18: МБОУ "СОШ №22 им.Героя РФ Н.Ф.Гаврилова" г.Чебоксары | E18: 10А | F18: 10 | G18: Волкова Ольга Валериановна | H18: 0 | I18: 4.5 | J18: 1 | K18: 5 | L18: 6 | M18: 1 | N18: 0 | O18: 0 | P18: 0 | Q18: 0 | R18: 17.5 | S18: 100 | T18: 18% | U18: участник
A19: 7 | B19: РЯ-152 | C19: г. Чебоксары | D19: МБОУ "СОШ №22 им.Героя РФ Н.Ф.Гаврилова" г.Чебоксары | E19: 10А | F19: 10 | G19: Волкова Ольга Валериановна | H19: 4 | I19: 5 | J19: 0 | K19: 2 | L19: 2 | M19: 2 | N19: 1 | O19: 0 | P19: 0 | Q19: 0 | R19: 16 | S19: 100 | T19: 16% | U19: участник
A20: 6 | B20: РЯ-151 | C20: г. Чебоксары | D20: МБОУ "СОШ №22 им.Героя РФ Н.Ф.Гаврилова" г.Чебоксары | E20: 10А | F20: 10 | G20: Волкова Ольга Валериановна | H20: 0 | I20: 1.5 | J20: 0 | K20: 0 | L20: 0 | M20: 2 | N20: 1 | O20: 0 | P20: 1 | Q20: 0 | R20: 5.5 | S20: 100 | T20: 6% | U20: участник
A21: 5 | B21: РЯ-150 | C21: г. Чебоксары | D21: МБОУ "СОШ №22 им.Героя РФ Н.Ф.Гаврилова" г.Чебоксары | E21: 10А | F21: 10 | G21: Волкова Ольга Валериановна | H21: 0 | I21: 0 | J21: 0 | K21: 0 | L21: 0 | M21: 2 | N21: 2 | O21: 0 | P21: 0 | Q21: 0 | R21: 4 | S21: 100 | T21: 4% | U21: участник
B23: Председатель жюри: | C23: ________ | D23: Михайлова Е.С.
B24: Члены жюри: | C24: ________ | D24: Кислова Р.Г.
C25: ________ | D25: Нестерова Е.В.
C26: ________ | D26: Миронова В.А.
C27: ________ | D27: Морозова Т.В.
C28: ________ | D28: Петрова Е.Б.
C29: ________ | D29: Евграфова В.В.
C30: ________ | D30: Семенова С.С.
D31: Евграфова В.В.

Sheet 11 КЛАСС
A1: Протокол школьного этапа этапа всероссийской олимпиады школьников по русскому языку в 2025-2026 уч.г., 11 класс
A2: Количество участников: 4
A3: Дата проведения: 09.10.2025
A4: Место проведения: МБОУ "СОШ №22 им. Героя РФ Н.Ф. Гаврилова" г.Чебоксары
A5: Председатель жюри: Михайлова Е.С., учитель русского языка и литературы
A6: Члены жюри: Кислова Р.Г. , учитель русского языка и литературы
A7: Нестерова Е.В., учитель русского языка и литературы
A8: Миронова В.А., учитель начальных классов
A9: Морозова Т.В., учитель начальных классов
A10: Петрова Е.Б., учитель начальных классов
A11: Евграфова В.В., учитель начальных классов
A12: Семенова С.С. , учитель начальных классов
A13: № | B13: Шифр | C13: Город | D13: Наименование ОО (сокращенное наименование по Уставу) | E13: Класс, в котором обучается | F13: Класс, за который выступает | G13: Ф.И.О. наставника (полностью) | H13: Задание 1 | I13: Задание 2 | J13: Задание 3 | K13: Задание 4 | L13: Задание 5 | M13: Задание 6 | N13: Задание 7 | O13: Задание 8 | P13: Задание 9 | Q13: Задание 10 | R13: ИТОГО БАЛЛОВ | S13: МАКСИМАЛЬНЫЙ БАЛЛ | T13: Эффективность участия (%) | U13: Результат (победитель/ призер/ участник)
A14: 3 | B14: РЯ-156 | C14: г. Чебоксары | D14: МБОУ "СОШ №22 им.Героя РФ Н.Ф.Гаврилова" г.Чебоксары | E14: 11 | F14: 11А | G14: Нестерова Елена Валерьевна | H14: 5.5 | I14: 3.5 | J14: 6 | K14: 3 | L14: 16 | M14: 10 | N14: 2 | O14: 6.5 | P14: 8 | Q14: 5 | R14: 65.5 | S14: 100 | T14: 66% | U14: призёр
A15: 4 | B15: РЯ-157 | C15: г. Чебоксары | D15: МБОУ "СОШ №22 им.Героя РФ Н.Ф.Гаврилова" г.Чебоксары | E15: 11 | F15: 11А | G15: Нестерова Елена Валерьевна | H15: 5.5 | I15: 3.5 | J15: 6 | K15: 6 | L15: 16 | M15: 10 | N15: 1 | O15: 5 | P15: 8 | Q15: 0 | R15: 61 | S15: 100 | T15: 61% | U15: участник
A16: 1 | B16: РЯ-154 | C16: г. Чебоксары | D16: МБОУ "СОШ №22 им.Героя РФ Н.Ф.Гаврилова" г.Чебоксары | E16: 11 | F16: 11А | G16: Нестерова Елена Валерьевна | H16: 3 | I16: 6 | J16: 0 | K16: 1 | L16: 16 | M16: 8 | N16: 0 | O16: 6.5 | P16: 8.5 | Q16: 0 | R16: 49 | S16: 100 | T16: 49% | U16: участник
A17: 2 | B17: РЯ-155 | C17: г. Чебоксары | D17: МБОУ "СОШ №22 им.Героя РФ Н.Ф.Гаврилова" г.Чебоксары | E17: 11 | F17: 11А | G17: Нестерова Елена Валерьевна | H17: 3 | I17: 6 | J17: 0 | K17: 6 | L17: 13 | M17: 2 | N17: 0 | O17: 7 | P17: 8.5 | Q17: 0 | R17: 45.5 | S17: 100 | T17: 46% | U17: участник
B19: Председатель жюри: | C19: ________ | D19: Михайлова Е.С.
B20: Члены жюри: | C20: ________ | D20: Кислова Р.Г.
C21: ________ | D21: Нестерова Е.В.
C22: ________ | D22: Миронова В.А.
C23: ________ | D23: Морозова Т.В.
C24: ________ | D24: Петрова Е.Б.
C25: ________ | D25: Евграфова В.В.
C26: ________ | D26: Семенова С.С.
